DSET ^Thermosteric_700m.grb
INDEX ^Thermosteric_700m.idx
dtype grib 255
TITLE Monthly Thermosteric height anomaly (0-700m)
UNDEF 99999
XDEF 360 LINEAR 0.5 1
YDEF 180 LINEAR -89.5 1
ZDEF 1 LEVELS 700
TDEF 840 LINEAR 15jan1955 1mo
VARS 2
s 0 131,160,700 Thermosteric height anomaly [m]
se 0 132,160,700 Error [m]
ENDVARS
